BEGIN:VCALENDAR
VERSION:2.0
PRODID:-//ChamberMaster//Event Calendar 2.0//EN
METHOD:PUBLISH
X-PUBLISHED-TTL:P1H
REFRESH-INTERVAL:P1H
CALSCALE:GREGORIAN
BEGIN:VTIMEZONE
TZID:America/Chicago
BEGIN:DAYLIGHT
RRULE:FREQ=YEARLY;BYMONTH=3;BYDAY=2SU
DTSTART:20070101T000000
TZOFFSETFROM:-0600
TZOFFSETTO:-0500
TZNAME:Central Daylight Time
END:DAYLIGHT
BEGIN:STANDARD
RRULE:FREQ=YEARLY;BYMONTH=11;BYDAY=1SU
DTSTART:20070101T000000
TZOFFSETFROM:-0500
TZOFFSETTO:-0600
TZNAME:Central Standard Time
END:STANDARD
END:VTIMEZONE
BEGIN:VEVENT
DTSTART;TZID=America/Chicago:20260514T113000
DTEND;TZID=America/Chicago:20260514T130000
X-MICROSOFT-CDO-ALLDAYEVENT:FALSE
SUMMARY:Chamber Luncheon - Leadership Leawood Graduation
DESCRIPTION:Join us as we celebrate Leadership Leawood's Class of 2026 and the culmination of their leadership journey.Over the past several months\, this cohort has explored the people\, places\, and issues shaping our community\, growing as leaders\, building meaningful connections\, and developing a deeper understanding of how to make an impact in Leawood and beyond. This special luncheon honors their commitment and achievements as they take the stage to graduate from the program.Attendees will hear directly from the class\, reflecting on their experience and the insights gained along the way\, followed by a keynote address from Tim Cowden\, President & CEO of the Kansas City Area Development Council (KCADC). A regional leader in economic development\, Tim will share his perspective on growth\, opportunity\, and the future of our community.Celebrate with us as we recognize these emerging leaders and the bright future ahead.Ticket Information:$55 - Chamber Member Admission$65 - Non-Member Admission$450 - Reserved Table of 8 (includes company signage)Thank you to Molle Auto Group\, our presenting sponsor of Leadership Leawood.LOCATION DETAILS: This event will take place in the Regnier Center at Johnson County Community College.
X-ALT-DESC;FMTTYPE=text/html:<!DOCTYPE html><html><head><title></title></head><body aria-disabled="false" spellcheck="false"><p>Join us as we celebrate Leadership Leawood&#39\;s Class of 2026 and the culmination of their leadership journey.</p><p>Over the past several months\, this cohort has explored the people\, places\, and issues shaping our community\, growing as leaders\, building meaningful connections\, and developing a deeper understanding of how to make an impact in Leawood and beyond. This special luncheon honors their commitment and achievements as they take the stage to graduate from the program.</p><p>Attendees will hear directly from the class\, reflecting on their experience and the insights gained along the way\, followed by a keynote address from Tim Cowden\, President &amp\; CEO of the Kansas City Area Development Council (KCADC). A regional leader in economic development\, Tim will share his perspective on growth\, opportunity\, and the future of our community.</p><p>Celebrate with us as we recognize these emerging leaders and the bright future ahead.</p><p>Ticket Information:</p><ul fr-original-style="" style="list-style-position: inside\;"><li>$55 - Chamber Member Admission</li><li>$65 - Non-Member Admission</li><li>$450 - Reserved Table of 8 (includes company signage)</li></ul><p>Thank you to <a fr-original-style="" href="https://www.mollecars.com/" rel="noopener noreferrer" style="user-select: auto\;" target="_blank">Molle Auto Group</a>\, our presenting sponsor of Leadership Leawood.</p><p><strong fr-original-style="" style="font-weight: 700\;"><u>LOCATION DETAILS</u></strong>: This event will take place in the <a fr-original-style="" href="https://www.jccc.edu/about/campus/maps/buildings/rc.html" rel="noopener noreferrer" style="user-select: auto\;" target="_blank">Regnier Center</a> at Johnson County Community College.</p></body></html>
LOCATION:12345 College Blvd. Overland Park KS 66210
UID:e.3601.1282271
SEQUENCE:3
DTSTAMP:20260420T110410Z
URL:https://growthzone.leawoodchamber.org/chamber-events/Details/chamber-luncheon-leadership-leawood-graduation-1501395?sourceTypeId=Hub
END:VEVENT
END:VCALENDAR
